{ "currentVersion": 10.51, "serviceDescription": "
Si definiscono vincoli le limitazioni alla libera disponibilità di un bene. La tavola individua le aree soggette a prescrizioni derivanti da vincoli ricognitivi e vincoli conformativi.<\/SPAN><\/P> I vincoli ricognitivi interessano intere categorie di beni che meritano una tutela particolare per la loro stessa natura, o zone che per le loro specifiche caratteristiche devono essere trattate in maniera differente dal restante territorio. Alcuni esempi sono il vincolo idrogeologico, le tutele dei beni storici e dei beni ambientali (parchi, riserve naturali, zone alpine, boschi, fiumi, ecc.).<\/SPAN><\/P> I vincoli conformativi derivano da leggi specifiche che tutelano la funzionalità di beni di interesse pubblico e devono essere recepiti dai piani urbanistici. Alcuni esempi sono le fasce di rispetto stradale, cimiteriale, degli elettrodotti e dei depuratori.<\/SPAN><\/P><\/DIV><\/DIV><\/DIV>",
"mapName": "Vincoli infrastrutturali",
"description": "",
"copyrightText": "",
"supportsDynamicLayers": true,
"layers": [
{
"id": 0,
"name": "Confine comunale",
"parentLayerId": -1,
"defaultVisibility": true,
"subLayerIds": null,
"minScale": 0,
"maxScale": 0
},
{
"id": 1,
"name": "_Vestizione - Beni culturali",
"parentLayerId": -1,
"defaultVisibility": true,
"subLayerIds": null,
"minScale": 10010,
"maxScale": 0
},
{
"id": 2,
"name": "#Beni culturali",
"parentLayerId": -1,
"defaultVisibility": true,
"subLayerIds": null,
"minScale": 15010,
"maxScale": 0
},
{
"id": 3,
"name": "Allevamenti",
"parentLayerId": -1,
"defaultVisibility": true,
"subLayerIds": null,
"minScale": 15010,
"maxScale": 0
},
{
"id": 4,
"name": "Depuratore",
"parentLayerId": -1,
"defaultVisibility": true,
"subLayerIds": null,
"minScale": 10010,
"maxScale": 0
},
{
"id": 5,
"name": "Rispetto stradale",
"parentLayerId": -1,
"defaultVisibility": true,
"subLayerIds": null,
"minScale": 35010,
"maxScale": 0
},
{
"id": 6,
"name": "Centro abitato",
"parentLayerId": -1,
"defaultVisibility": true,
"subLayerIds": null,
"minScale": 35010,
"maxScale": 0
},
{
"id": 7,
"name": "Rispetto cimiteriale",
"parentLayerId": -1,
"defaultVisibility": true,
"subLayerIds": null,
"minScale": 35010,
"maxScale": 0
},
{
"id": 8,
"name": "Rispetto da stazioni radio",
"parentLayerId": -1,
"defaultVisibility": true,
"subLayerIds": null,
"minScale": 35010,
"maxScale": 0
},
{
"id": 9,
"name": "Parco locale di interesse sovracomunale \"Colline di Brescia\"",
"parentLayerId": -1,
"defaultVisibility": true,
"subLayerIds": null,
"minScale": 35010,
"maxScale": 0
},
{
"id": 10,
"name": "_Vestizione - Elettrodotti",
"parentLayerId": -1,
"defaultVisibility": true,
"subLayerIds": null,
"minScale": 15010,
"maxScale": 0
},
{
"id": 11,
"name": "#Rispetto da elettrodotti",
"parentLayerId": -1,
"defaultVisibility": true,
"subLayerIds": null,
"minScale": 35010,
"maxScale": 0
},
{
"id": 12,
"name": "Fascia di rispetto allevamenti",
"parentLayerId": -1,
"defaultVisibility": true,
"subLayerIds": null,
"minScale": 20010,
"maxScale": 0
},
{
"id": 13,
"name": "Fascia di rispetto del depuratore",
"parentLayerId": -1,
"defaultVisibility": true,
"subLayerIds": null,
"minScale": 20001,
"maxScale": 0
},
{
"id": 14,
"name": "Fascia di rispetto di fiumi e torrenti",
"parentLayerId": -1,
"defaultVisibility": true,
"subLayerIds": null,
"minScale": 35010,
"maxScale": 0
},
{
"id": 15,
"name": "Ambiti ad elevata naturalità",
"parentLayerId": -1,
"defaultVisibility": true,
"subLayerIds": null,
"minScale": 35010,
"maxScale": 0
},
{
"id": 16,
"name": "Vincolo ex articolo 142 ",
"parentLayerId": -1,
"defaultVisibility": true,
"subLayerIds": null,
"minScale": 25010,
"maxScale": 0
}
],
"tables": [],
"spatialReference": {
"wkid": 102100,
"latestWkid": 3857
},
"singleFusedMapCache": true,
"tileInfo": {
"rows": 256,
"cols": 256,
"dpi": 96,
"format": "PNG",
"compressionQuality": 0,
"origin": {
"x": -2.0037508342787E7,
"y": 2.0037508342787E7
},
"spatialReference": {
"wkid": 102100,
"latestWkid": 3857
},
"lods": [
{
"level": 0,
"resolution": 156543.033928,
"scale": 5.91657527591555E8
},
{
"level": 1,
"resolution": 78271.5169639999,
"scale": 2.95828763795777E8
},
{
"level": 2,
"resolution": 39135.7584820001,
"scale": 1.47914381897889E8
},
{
"level": 3,
"resolution": 19567.8792409999,
"scale": 7.3957190948944E7
},
{
"level": 4,
"resolution": 9783.93962049996,
"scale": 3.6978595474472E7
},
{
"level": 5,
"resolution": 4891.96981024998,
"scale": 1.8489297737236E7
},
{
"level": 6,
"resolution": 2445.98490512499,
"scale": 9244648.868618
},
{
"level": 7,
"resolution": 1222.99245256249,
"scale": 4622324.434309
},
{
"level": 8,
"resolution": 611.49622628138,
"scale": 2311162.217155
},
{
"level": 9,
"resolution": 305.748113140558,
"scale": 1155581.108577
},
{
"level": 10,
"resolution": 152.874056570411,
"scale": 577790.554289
},
{
"level": 11,
"resolution": 76.4370282850732,
"scale": 288895.277144
},
{
"level": 12,
"resolution": 38.2185141425366,
"scale": 144447.638572
},
{
"level": 13,
"resolution": 19.1092570712683,
"scale": 72223.819286
},
{
"level": 14,
"resolution": 9.55462853563415,
"scale": 36111.909643
},
{
"level": 15,
"resolution": 4.77731426794937,
"scale": 18055.954822
},
{
"level": 16,
"resolution": 2.38865713397468,
"scale": 9027.977411
},
{
"level": 17,
"resolution": 1.19432856685505,
"scale": 4513.988705
},
{
"level": 18,
"resolution": 0.597164283559817,
"scale": 2256.994353
},
{
"level": 19,
"resolution": 0.298582141647617,
"scale": 1128.497176
},
{
"level": 20,
"resolution": 0.14929107082380833,
"scale": 564.248588
},
{
"level": 21,
"resolution": 0.07464553541190416,
"scale": 282.124294
},
{
"level": 22,
"resolution": 0.03732276770595208,
"scale": 141.062147
},
{
"level": 23,
"resolution": 0.01866138385297604,
"scale": 70.5310735
}
]
},
"initialExtent": {
"xmin": 1131372.8279482895,
"ymin": 5714477.183982165,
"xmax": 1151815.9000844308,
"ymax": 5722790.996906086,
"spatialReference": {
"cs": "pcs",
"wkid": 102100
}
},
"fullExtent": {
"xmin": 1131688.3442043206,
"ymin": 5709963.971252036,
"xmax": 1151500.3838283995,
"ymax": 5722790.996906086,
"spatialReference": {
"cs": "pcs",
"wkid": 102100
}
},
"minScale": 5.91657527591555E8,
"maxScale": 564.248588,
"units": "esriMeters",
"supportedImageFormatTypes": "PNG32,PNG24,PNG,JPG,DIB,TIFF,EMF,PS,PDF,GIF,SVG,SVGZ,BMP",
"documentInfo": {
"Title": "Vincoli_infrastrutturali",
"Author": "",
"Comments": "Vincoli_infrastrutturali",
"Subject": "",
"Category": "",
"AntialiasingMode": "None",
"TextAntialiasingMode": "Force",
"Keywords": "Infrastrutture,Geoportale,Urbanistica e pianificazione,Vincolistica"
},
"capabilities": "Map,Query,Data",
"supportedQueryFormats": "JSON, AMF, geoJSON",
"exportTilesAllowed": false,
"supportsDatumTransformation": true,
"maxRecordCount": 1000,
"maxImageHeight": 4096,
"maxImageWidth": 4096,
"supportedExtensions": ""
}