{ "currentVersion": 10.51, "serviceDescription": "
Lo Studio geologico è uno strumento urbanistico che costituisce parte fondamentale del Piano di governo del territorio, è costituito da una parte cartografica e da una parte descrittiva. Definisce la componente geologica, idrogeologica e sismica del territorio comunale con lo scopo di assegnare alle singole aree norme d\u2019uso e prescrizioni.<\/SPAN><\/P> La carta della fattibilità geologica costituisce la fase di proposta dello Studio geologico e prevede l\u2019assegnazione della classe di fattibilità agli ambiti omogenei per pericolosità geologica, vulnerabilità idraulica e idrogeologica individuati nella fase di sintesi.<\/SPAN><\/P> La carta della pericolosità sismica locale deriva dall\u2019unione della carta geologica e dalla carta geomorfologica. Riporta la perimetrazione areale e lineare delle diverse situazioni tipo in grado di determinare effetti sismici locali.<\/SPAN><\/P><\/DIV><\/DIV><\/DIV>",
"mapName": "TAV11 - Fattibilità. Componente geologica, idrogeologica e sismica del PGT",
"description": "",
"copyrightText": "",
"supportsDynamicLayers": true,
"layers": [
{
"id": 0,
"name": "_Confine comunale",
"parentLayerId": -1,
"defaultVisibility": true,
"subLayerIds": null,
"minScale": 500100,
"maxScale": 0
},
{
"id": 1,
"name": "Fattibilità geologica",
"parentLayerId": -1,
"defaultVisibility": true,
"subLayerIds": null,
"minScale": 35010,
"maxScale": 0
}
],
"tables": [],
"spatialReference": {
"wkid": 102100,
"latestWkid": 3857
},
"singleFusedMapCache": true,
"tileInfo": {
"rows": 256,
"cols": 256,
"dpi": 96,
"format": "PNG",
"compressionQuality": 0,
"origin": {
"x": -2.0037508342787E7,
"y": 2.0037508342787E7
},
"spatialReference": {
"wkid": 102100,
"latestWkid": 3857
},
"lods": [
{
"level": 0,
"resolution": 156543.033928,
"scale": 5.91657527591555E8
},
{
"level": 1,
"resolution": 78271.5169639999,
"scale": 2.95828763795777E8
},
{
"level": 2,
"resolution": 39135.7584820001,
"scale": 1.47914381897889E8
},
{
"level": 3,
"resolution": 19567.8792409999,
"scale": 7.3957190948944E7
},
{
"level": 4,
"resolution": 9783.93962049996,
"scale": 3.6978595474472E7
},
{
"level": 5,
"resolution": 4891.96981024998,
"scale": 1.8489297737236E7
},
{
"level": 6,
"resolution": 2445.98490512499,
"scale": 9244648.868618
},
{
"level": 7,
"resolution": 1222.99245256249,
"scale": 4622324.434309
},
{
"level": 8,
"resolution": 611.49622628138,
"scale": 2311162.217155
},
{
"level": 9,
"resolution": 305.748113140558,
"scale": 1155581.108577
},
{
"level": 10,
"resolution": 152.874056570411,
"scale": 577790.554289
},
{
"level": 11,
"resolution": 76.4370282850732,
"scale": 288895.277144
},
{
"level": 12,
"resolution": 38.2185141425366,
"scale": 144447.638572
},
{
"level": 13,
"resolution": 19.1092570712683,
"scale": 72223.819286
},
{
"level": 14,
"resolution": 9.55462853563415,
"scale": 36111.909643
},
{
"level": 15,
"resolution": 4.77731426794937,
"scale": 18055.954822
},
{
"level": 16,
"resolution": 2.38865713397468,
"scale": 9027.977411
},
{
"level": 17,
"resolution": 1.19432856685505,
"scale": 4513.988705
},
{
"level": 18,
"resolution": 0.597164283559817,
"scale": 2256.994353
},
{
"level": 19,
"resolution": 0.298582141647617,
"scale": 1128.497176
},
{
"level": 20,
"resolution": 0.14929107082380833,
"scale": 564.248588
},
{
"level": 21,
"resolution": 0.07464553541190416,
"scale": 282.124294
},
{
"level": 22,
"resolution": 0.03732276770595208,
"scale": 141.062147
},
{
"level": 23,
"resolution": 0.01866138385297604,
"scale": 70.5310735
}
]
},
"initialExtent": {
"xmin": 1077329.421481043,
"ymin": 5731816.913542838,
"xmax": 1085442.296219997,
"ymax": 5734806.452316507,
"spatialReference": {
"cs": "pcs",
"wkid": 102100
}
},
"fullExtent": {
"xmin": 1077703.7740494139,
"ymin": 5730127.6574328095,
"xmax": 1085067.943651626,
"ymax": 5734806.452316508,
"spatialReference": {
"cs": "pcs",
"wkid": 102100
}
},
"minScale": 5.91657527591555E8,
"maxScale": 564.248588,
"units": "esriMeters",
"supportedImageFormatTypes": "PNG32,PNG24,PNG,JPG,DIB,TIFF,EMF,PS,PDF,GIF,SVG,SVGZ,BMP",
"documentInfo": {
"Title": "TAV11 - Fattibilità. Componente geologica, idrogeologica e sismica del PGT",
"Author": "Maggioli spa",
"Comments": "TAV11 - Fattibilità. Componente geologica, idrogeologica e sismica del PGT",
"Subject": "TAV11 - Fattibilità. Componente geologica, idrogeologica e sismica del PGT",
"Category": "",
"AntialiasingMode": "None",
"TextAntialiasingMode": "Force",
"Keywords": "Edilizia,Geoportale,Urbanistica e pianificazione"
},
"capabilities": "Map,Query,Data",
"supportedQueryFormats": "JSON, AMF, geoJSON",
"exportTilesAllowed": false,
"supportsDatumTransformation": true,
"maxRecordCount": 1000,
"maxImageHeight": 4096,
"maxImageWidth": 4096,
"supportedExtensions": ""
}