{ "currentVersion": 10.51, "serviceDescription": "
Il <\/SPAN>Piano di governo del territorio, <\/SPAN>sulla base dello studio delle componenti paesaggistiche, dell\u2019individuazione delle zone di tutela e delle criticità idrogeologiche, suddivide il territorio comunale in 5 classi di sensibilità paesaggistica: sensibilità molto alta, sensibilità alta, sensibilità media, sensibilità bassa e molto bassa.<\/SPAN><\/P> Tale classificazione è finalizzata all\u2019ottimale inserimento di quei progetti di trasformazione che saranno oggetto di autorizzazione paesaggistica e di cui, quindi, sarà valutata l'incidenza sull'ambiente circostante.<\/SPAN><\/P><\/DIV><\/DIV><\/DIV>",
"mapName": "DP 2_6 - Sensibilità del paesaggio",
"description": "",
"copyrightText": "",
"supportsDynamicLayers": true,
"layers": [
{
"id": 0,
"name": "_Confine comunale",
"parentLayerId": -1,
"defaultVisibility": true,
"subLayerIds": null,
"minScale": 1000010,
"maxScale": 0
},
{
"id": 1,
"name": "Sensibilità paesaggistica",
"parentLayerId": -1,
"defaultVisibility": true,
"subLayerIds": null,
"minScale": 100010,
"maxScale": 0
}
],
"tables": [],
"spatialReference": {
"wkid": 102100,
"latestWkid": 3857
},
"singleFusedMapCache": true,
"tileInfo": {
"rows": 256,
"cols": 256,
"dpi": 96,
"format": "PNG",
"compressionQuality": 0,
"origin": {
"x": -2.0037508342787E7,
"y": 2.0037508342787E7
},
"spatialReference": {
"wkid": 102100,
"latestWkid": 3857
},
"lods": [
{
"level": 0,
"resolution": 156543.033928,
"scale": 5.91657527591555E8
},
{
"level": 1,
"resolution": 78271.5169639999,
"scale": 2.95828763795777E8
},
{
"level": 2,
"resolution": 39135.7584820001,
"scale": 1.47914381897889E8
},
{
"level": 3,
"resolution": 19567.8792409999,
"scale": 7.3957190948944E7
},
{
"level": 4,
"resolution": 9783.93962049996,
"scale": 3.6978595474472E7
},
{
"level": 5,
"resolution": 4891.96981024998,
"scale": 1.8489297737236E7
},
{
"level": 6,
"resolution": 2445.98490512499,
"scale": 9244648.868618
},
{
"level": 7,
"resolution": 1222.99245256249,
"scale": 4622324.434309
},
{
"level": 8,
"resolution": 611.49622628138,
"scale": 2311162.217155
},
{
"level": 9,
"resolution": 305.748113140558,
"scale": 1155581.108577
},
{
"level": 10,
"resolution": 152.874056570411,
"scale": 577790.554289
},
{
"level": 11,
"resolution": 76.4370282850732,
"scale": 288895.277144
},
{
"level": 12,
"resolution": 38.2185141425366,
"scale": 144447.638572
},
{
"level": 13,
"resolution": 19.1092570712683,
"scale": 72223.819286
},
{
"level": 14,
"resolution": 9.55462853563415,
"scale": 36111.909643
},
{
"level": 15,
"resolution": 4.77731426794937,
"scale": 18055.954822
},
{
"level": 16,
"resolution": 2.38865713397468,
"scale": 9027.977411
},
{
"level": 17,
"resolution": 1.19432856685505,
"scale": 4513.988705
},
{
"level": 18,
"resolution": 0.597164283559817,
"scale": 2256.994353
},
{
"level": 19,
"resolution": 0.298582141647617,
"scale": 1128.497176
}
]
},
"initialExtent": {
"xmin": 1048750.166831062,
"ymin": 5714869.612683698,
"xmax": 1057214.3418413785,
"ymax": 5718314.07708829,
"spatialReference": {
"cs": "pcs",
"wkid": 102100
}
},
"fullExtent": {
"xmin": 1049896.523448747,
"ymin": 5714632.424979521,
"xmax": 1056171.8831912952,
"ymax": 5718471.590466137,
"spatialReference": {
"cs": "pcs",
"wkid": 102100
}
},
"minScale": 9244648.868618,
"maxScale": 1128.497176,
"units": "esriMeters",
"supportedImageFormatTypes": "PNG32,PNG24,PNG,JPG,DIB,TIFF,EMF,PS,PDF,GIF,SVG,SVGZ,BMP",
"documentInfo": {
"Title": "DP 2_6",
"Author": "",
"Comments": "PGT di Roncello - DP 2_6 - Sensibilità del paesaggio",
"Subject": "PGT di Roncello - DP 2_6 - Sensibilità del paesaggio",
"Category": "",
"AntialiasingMode": "None",
"TextAntialiasingMode": "Force",
"Keywords": "Edilizia,Geoportale,Urbanistica e pianificazione"
},
"capabilities": "Map,Query,Data",
"supportedQueryFormats": "JSON, AMF, geoJSON",
"exportTilesAllowed": false,
"datumTransformations": [
{
"geoTransforms": [
{
"wkt": "GEOGTRAN[\"IGM_MonteMario_To_WGS84\",GEOGCS[\"GCS_Monte_Mario\",DATUM[\"D_Monte_Mario\",SPHEROID[\"International_1924\",6378388.0,297.0]],PRIMEM[\"Greenwich\",0.0],UNIT[\"Degree\",0.0174532925199433]],GEOGCS[\"GCS_WGS_1984\",DATUM[\"D_WGS_1984\",SPHEROID[\"WGS_1984\",6378137.0,298.257223563]],PRIMEM[\"Greenwich\",0.0],UNIT[\"Degree\",0.0174532925199433]],METHOD[\"NTv2\"],PARAMETER[\"Dataset_italia/MM_WG.gsb\",0.0]]",
"transformForward": true,
"name": "IGM_MonteMario_To_WGS84"
}
]
},
{
"geoTransforms": [
{
"wkt": "GEOGTRAN[\"IGM_MonteMario_To_WGS84\",GEOGCS[\"GCS_Monte_Mario\",DATUM[\"D_Monte_Mario\",SPHEROID[\"International_1924\",6378388.0,297.0]],PRIMEM[\"Greenwich\",0.0],UNIT[\"Degree\",0.0174532925199433]],GEOGCS[\"GCS_WGS_1984\",DATUM[\"D_WGS_1984\",SPHEROID[\"WGS_1984\",6378137.0,298.257223563]],PRIMEM[\"Greenwich\",0.0],UNIT[\"Degree\",0.0174532925199433]],METHOD[\"NTv2\"],PARAMETER[\"Dataset_italia/MM_WG.gsb\",0.0]]",
"transformForward": false,
"name": "IGM_MonteMario_To_WGS84"
}
]
}
],
"supportsDatumTransformation": true,
"maxRecordCount": 1000,
"maxImageHeight": 4096,
"maxImageWidth": 4096,
"supportedExtensions": ""
}