{
 "currentVersion": 10.51,
 "serviceDescription": "Database topografico",
 "mapName": "Database topografico",
 "description": "",
 "copyrightText": "",
 "supportsDynamicLayers": true,
 "layers": [
  {
   "id": 0,
   "name": "DBT piccola scala",
   "parentLayerId": -1,
   "defaultVisibility": true,
   "subLayerIds": [
    1,
    2
   ],
   "minScale": 0,
   "maxScale": 10011
  },
  {
   "id": 1,
   "name": "_Limite amministrativo",
   "parentLayerId": 0,
   "defaultVisibility": false,
   "subLayerIds": null,
   "minScale": 150000,
   "maxScale": 10011
  },
  {
   "id": 2,
   "name": "DBT",
   "parentLayerId": 0,
   "defaultVisibility": true,
   "subLayerIds": [
    3,
    4,
    5,
    6,
    7,
    8,
    9,
    10,
    11,
    12,
    13
   ],
   "minScale": 25011,
   "maxScale": 0
  },
  {
   "id": 3,
   "name": "_Curve di livello",
   "parentLayerId": 2,
   "defaultVisibility": true,
   "subLayerIds": null,
   "minScale": 50010,
   "maxScale": 10011
  },
  {
   "id": 4,
   "name": "_Elemento di metropolitana",
   "parentLayerId": 2,
   "defaultVisibility": true,
   "subLayerIds": null,
   "minScale": 50010,
   "maxScale": 10011
  },
  {
   "id": 5,
   "name": "_Elemento divisorio",
   "parentLayerId": 2,
   "defaultVisibility": true,
   "subLayerIds": null,
   "minScale": 50010,
   "maxScale": 10011
  },
  {
   "id": 6,
   "name": "_Rete elettrica",
   "parentLayerId": 2,
   "defaultVisibility": true,
   "subLayerIds": null,
   "minScale": 50010,
   "maxScale": 10011
  },
  {
   "id": 7,
   "name": "_Scarpata",
   "parentLayerId": 2,
   "defaultVisibility": true,
   "subLayerIds": null,
   "minScale": 50010,
   "maxScale": 10011
  },
  {
   "id": 8,
   "name": "_Gradinata",
   "parentLayerId": 2,
   "defaultVisibility": true,
   "subLayerIds": null,
   "minScale": 50010,
   "maxScale": 10011
  },
  {
   "id": 9,
   "name": "_Attrezzatura sportiva",
   "parentLayerId": 2,
   "defaultVisibility": true,
   "subLayerIds": null,
   "minScale": 50010,
   "maxScale": 10011
  },
  {
   "id": 10,
   "name": "_Edificio",
   "parentLayerId": 2,
   "defaultVisibility": true,
   "subLayerIds": null,
   "minScale": 50010,
   "maxScale": 10011
  },
  {
   "id": 11,
   "name": "_Area verde",
   "parentLayerId": 2,
   "defaultVisibility": true,
   "subLayerIds": null,
   "minScale": 50010,
   "maxScale": 10011
  },
  {
   "id": 12,
   "name": "_Area attrezzata al suolo",
   "parentLayerId": 2,
   "defaultVisibility": true,
   "subLayerIds": null,
   "minScale": 50010,
   "maxScale": 10011
  },
  {
   "id": 13,
   "name": "_Area stradale",
   "parentLayerId": 2,
   "defaultVisibility": true,
   "subLayerIds": null,
   "minScale": 50010,
   "maxScale": 10011
  },
  {
   "id": 14,
   "name": "DBT grande scala",
   "parentLayerId": -1,
   "defaultVisibility": true,
   "subLayerIds": [
    15,
    16,
    17,
    18,
    19,
    23,
    24,
    25,
    28,
    29,
    30,
    31,
    32,
    46,
    54,
    56,
    60,
    69,
    82,
    83,
    87,
    88,
    95,
    103,
    106,
    109
   ],
   "minScale": 10010,
   "maxScale": 0
  },
  {
   "id": 15,
   "name": "_#Comuni DBT",
   "parentLayerId": 14,
   "defaultVisibility": true,
   "subLayerIds": null,
   "minScale": 0,
   "maxScale": 0
  },
  {
   "id": 16,
   "name": "_#Informazioni cartografiche",
   "parentLayerId": 14,
   "defaultVisibility": true,
   "subLayerIds": null,
   "minScale": 0,
   "maxScale": 0
  },
  {
   "id": 17,
   "name": "Limite amministrativo",
   "parentLayerId": 14,
   "defaultVisibility": true,
   "subLayerIds": null,
   "minScale": 0,
   "maxScale": 0
  },
  {
   "id": 18,
   "name": "_Vestizione puntuale",
   "parentLayerId": 14,
   "defaultVisibility": true,
   "subLayerIds": null,
   "minScale": 3000,
   "maxScale": 0
  },
  {
   "id": 19,
   "name": "Scritte cartografiche",
   "parentLayerId": 14,
   "defaultVisibility": true,
   "subLayerIds": [
    20,
    21,
    22
   ],
   "minScale": 0,
   "maxScale": 0
  },
  {
   "id": 20,
   "name": "_#Località significative 10000",
   "parentLayerId": 19,
   "defaultVisibility": true,
   "subLayerIds": null,
   "minScale": 10010,
   "maxScale": 2271
  },
  {
   "id": 21,
   "name": "_#Scritta cartografica 2000",
   "parentLayerId": 19,
   "defaultVisibility": true,
   "subLayerIds": null,
   "minScale": 3000,
   "maxScale": 0
  },
  {
   "id": 22,
   "name": "_#Nome via",
   "parentLayerId": 19,
   "defaultVisibility": true,
   "subLayerIds": null,
   "minScale": 3000,
   "maxScale": 0
  },
  {
   "id": 23,
   "name": "Vestizioni generiche lineari",
   "parentLayerId": 14,
   "defaultVisibility": true,
   "subLayerIds": null,
   "minScale": 3000,
   "maxScale": 0
  },
  {
   "id": 24,
   "name": "Unità insediativa",
   "parentLayerId": 14,
   "defaultVisibility": true,
   "subLayerIds": null,
   "minScale": 30010,
   "maxScale": 0
  },
  {
   "id": 25,
   "name": "Altimetria",
   "parentLayerId": 14,
   "defaultVisibility": true,
   "subLayerIds": [
    26,
    27
   ],
   "minScale": 0,
   "maxScale": 0
  },
  {
   "id": 26,
   "name": "Curve di livello",
   "parentLayerId": 25,
   "defaultVisibility": true,
   "subLayerIds": null,
   "minScale": 20010,
   "maxScale": 0
  },
  {
   "id": 27,
   "name": "Breakline",
   "parentLayerId": 25,
   "defaultVisibility": true,
   "subLayerIds": null,
   "minScale": 20010,
   "maxScale": 0
  },
  {
   "id": 28,
   "name": "Albero isolato",
   "parentLayerId": 14,
   "defaultVisibility": true,
   "subLayerIds": null,
   "minScale": 3000,
   "maxScale": 0
  },
  {
   "id": 29,
   "name": "Elemento divisorio",
   "parentLayerId": 14,
   "defaultVisibility": true,
   "subLayerIds": null,
   "minScale": 10010,
   "maxScale": 0
  },
  {
   "id": 30,
   "name": "Rete elettrica",
   "parentLayerId": 14,
   "defaultVisibility": true,
   "subLayerIds": null,
   "minScale": 10010,
   "maxScale": 0
  },
  {
   "id": 31,
   "name": "Accessi",
   "parentLayerId": 14,
   "defaultVisibility": true,
   "subLayerIds": null,
   "minScale": 3000,
   "maxScale": 0
  },
  {
   "id": 32,
   "name": "Manufatti",
   "parentLayerId": 14,
   "defaultVisibility": true,
   "subLayerIds": [
    33,
    34,
    35,
    36,
    37,
    38,
    39,
    40,
    41,
    42,
    43,
    44,
    45
   ],
   "minScale": 0,
   "maxScale": 0
  },
  {
   "id": 33,
   "name": "Limite Conduttura",
   "parentLayerId": 32,
   "defaultVisibility": true,
   "subLayerIds": null,
   "minScale": 5010,
   "maxScale": 0
  },
  {
   "id": 34,
   "name": "Localizzazione di manufatto industriale/di trasporto",
   "parentLayerId": 32,
   "defaultVisibility": true,
   "subLayerIds": null,
   "minScale": 3000,
   "maxScale": 0
  },
  {
   "id": 35,
   "name": "Localizzazione manufatto edilizio arredo/igiene urbana",
   "parentLayerId": 32,
   "defaultVisibility": true,
   "subLayerIds": null,
   "minScale": 3000,
   "maxScale": 0
  },
  {
   "id": 36,
   "name": "Palo",
   "parentLayerId": 32,
   "defaultVisibility": true,
   "subLayerIds": null,
   "minScale": 3000,
   "maxScale": 0
  },
  {
   "id": 37,
   "name": "Sostegno a traliccio",
   "parentLayerId": 32,
   "defaultVisibility": true,
   "subLayerIds": null,
   "minScale": 3000,
   "maxScale": 0
  },
  {
   "id": 38,
   "name": "Condotta",
   "parentLayerId": 32,
   "defaultVisibility": true,
   "subLayerIds": null,
   "minScale": 10010,
   "maxScale": 0
  },
  {
   "id": 39,
   "name": "Manufatto industriale",
   "parentLayerId": 32,
   "defaultVisibility": true,
   "subLayerIds": null,
   "minScale": 10010,
   "maxScale": 0
  },
  {
   "id": 40,
   "name": "Gradinata",
   "parentLayerId": 32,
   "defaultVisibility": true,
   "subLayerIds": null,
   "minScale": 10010,
   "maxScale": 0
  },
  {
   "id": 41,
   "name": "Attrezzatura sportiva",
   "parentLayerId": 32,
   "defaultVisibility": true,
   "subLayerIds": null,
   "minScale": 10010,
   "maxScale": 0
  },
  {
   "id": 42,
   "name": "Sostegno a traliccio",
   "parentLayerId": 32,
   "defaultVisibility": true,
   "subLayerIds": null,
   "minScale": 3001,
   "maxScale": 0
  },
  {
   "id": 43,
   "name": "Manufatto monumentale e di arredo urbano",
   "parentLayerId": 32,
   "defaultVisibility": true,
   "subLayerIds": null,
   "minScale": 10010,
   "maxScale": 0
  },
  {
   "id": 44,
   "name": "Manufatto di infrastruttura di trasporto",
   "parentLayerId": 32,
   "defaultVisibility": true,
   "subLayerIds": null,
   "minScale": 10010,
   "maxScale": 0
  },
  {
   "id": 45,
   "name": "Conduttura",
   "parentLayerId": 32,
   "defaultVisibility": true,
   "subLayerIds": null,
   "minScale": 3001,
   "maxScale": 0
  },
  {
   "id": 46,
   "name": "Edificato",
   "parentLayerId": 14,
   "defaultVisibility": true,
   "subLayerIds": [
    47,
    48,
    49,
    50,
    51,
    52,
    53
   ],
   "minScale": 0,
   "maxScale": 0
  },
  {
   "id": 47,
   "name": "Limiti unità volumetrica",
   "parentLayerId": 46,
   "defaultVisibility": true,
   "subLayerIds": null,
   "minScale": 3001,
   "maxScale": 0
  },
  {
   "id": 48,
   "name": "Elemento di copertura",
   "parentLayerId": 46,
   "defaultVisibility": true,
   "subLayerIds": null,
   "minScale": 10010,
   "maxScale": 0
  },
  {
   "id": 49,
   "name": "Particolare architettonico",
   "parentLayerId": 46,
   "defaultVisibility": true,
   "subLayerIds": null,
   "minScale": 3001,
   "maxScale": 0
  },
  {
   "id": 50,
   "name": "Edificio - stato",
   "parentLayerId": 46,
   "defaultVisibility": true,
   "subLayerIds": null,
   "minScale": 10010,
   "maxScale": 0
  },
  {
   "id": 51,
   "name": "Edificio",
   "parentLayerId": 46,
   "defaultVisibility": true,
   "subLayerIds": null,
   "minScale": 10010,
   "maxScale": 0
  },
  {
   "id": 52,
   "name": "Edificio minore",
   "parentLayerId": 46,
   "defaultVisibility": true,
   "subLayerIds": null,
   "minScale": 10010,
   "maxScale": 0
  },
  {
   "id": 53,
   "name": "Unità volumetrica",
   "parentLayerId": 46,
   "defaultVisibility": true,
   "subLayerIds": null,
   "minScale": 3001,
   "maxScale": 0
  },
  {
   "id": 54,
   "name": "Opere di sostegno e difesa del suolo",
   "parentLayerId": 14,
   "defaultVisibility": true,
   "subLayerIds": [
    55
   ],
   "minScale": 0,
   "maxScale": 0
  },
  {
   "id": 55,
   "name": "Muro di sostegno e ritenuta del terreno",
   "parentLayerId": 54,
   "defaultVisibility": true,
   "subLayerIds": null,
   "minScale": 10010,
   "maxScale": 0
  },
  {
   "id": 56,
   "name": "Ferrovie",
   "parentLayerId": 14,
   "defaultVisibility": true,
   "subLayerIds": [
    57,
    58,
    59
   ],
   "minScale": 0,
   "maxScale": 0
  },
  {
   "id": 57,
   "name": "Elemento di metropolitana",
   "parentLayerId": 56,
   "defaultVisibility": true,
   "subLayerIds": null,
   "minScale": 10010,
   "maxScale": 0
  },
  {
   "id": 58,
   "name": "Elemento ferroviario",
   "parentLayerId": 56,
   "defaultVisibility": true,
   "subLayerIds": null,
   "minScale": 10010,
   "maxScale": 0
  },
  {
   "id": 59,
   "name": "Binario industriale",
   "parentLayerId": 56,
   "defaultVisibility": true,
   "subLayerIds": null,
   "minScale": 10010,
   "maxScale": 0
  },
  {
   "id": 60,
   "name": "Aree agro-forestali",
   "parentLayerId": 14,
   "defaultVisibility": true,
   "subLayerIds": [
    61,
    62,
    63,
    64,
    65,
    66,
    67,
    68
   ],
   "minScale": 0,
   "maxScale": 0
  },
  {
   "id": 61,
   "name": "Limiti Bosco",
   "parentLayerId": 60,
   "defaultVisibility": true,
   "subLayerIds": null,
   "minScale": 10010,
   "maxScale": 0
  },
  {
   "id": 62,
   "name": "Limiti Colture agricole",
   "parentLayerId": 60,
   "defaultVisibility": true,
   "subLayerIds": null,
   "minScale": 10010,
   "maxScale": 0
  },
  {
   "id": 63,
   "name": "Limiti Pascoli o incolti",
   "parentLayerId": 60,
   "defaultVisibility": true,
   "subLayerIds": null,
   "minScale": 10010,
   "maxScale": 0
  },
  {
   "id": 64,
   "name": "Bosco",
   "parentLayerId": 60,
   "defaultVisibility": true,
   "subLayerIds": null,
   "minScale": 30010,
   "maxScale": 0
  },
  {
   "id": 65,
   "name": "Pascolo o incolto",
   "parentLayerId": 60,
   "defaultVisibility": true,
   "subLayerIds": null,
   "minScale": 30010,
   "maxScale": 0
  },
  {
   "id": 66,
   "name": "Coltura agricola",
   "parentLayerId": 60,
   "defaultVisibility": true,
   "subLayerIds": null,
   "minScale": 30010,
   "maxScale": 0
  },
  {
   "id": 67,
   "name": "Formazione particolare",
   "parentLayerId": 60,
   "defaultVisibility": true,
   "subLayerIds": null,
   "minScale": 10010,
   "maxScale": 0
  },
  {
   "id": 68,
   "name": "Aree temporaneamente prive di vegetazione",
   "parentLayerId": 60,
   "defaultVisibility": true,
   "subLayerIds": null,
   "minScale": 30010,
   "maxScale": 0
  },
  {
   "id": 69,
   "name": "Strade",
   "parentLayerId": 14,
   "defaultVisibility": true,
   "subLayerIds": [
    70,
    71,
    72,
    73,
    74,
    75,
    76,
    77,
    78,
    79,
    80,
    81
   ],
   "minScale": 0,
   "maxScale": 0
  },
  {
   "id": 70,
   "name": "Limiti Aree di circolazione ciclabile",
   "parentLayerId": 69,
   "defaultVisibility": true,
   "subLayerIds": null,
   "minScale": 10010,
   "maxScale": 0
  },
  {
   "id": 71,
   "name": "Limiti area di circolazione pedonale",
   "parentLayerId": 69,
   "defaultVisibility": true,
   "subLayerIds": null,
   "minScale": 10010,
   "maxScale": 0
  },
  {
   "id": 72,
   "name": "Limiti area stradale",
   "parentLayerId": 69,
   "defaultVisibility": true,
   "subLayerIds": null,
   "minScale": 10010,
   "maxScale": 0
  },
  {
   "id": 73,
   "name": "Limiti Galleria",
   "parentLayerId": 69,
   "defaultVisibility": true,
   "subLayerIds": null,
   "minScale": 10010,
   "maxScale": 0
  },
  {
   "id": 74,
   "name": "Limiti Viabilità mista secondaria",
   "parentLayerId": 69,
   "defaultVisibility": true,
   "subLayerIds": null,
   "minScale": 10010,
   "maxScale": 0
  },
  {
   "id": 75,
   "name": "Area di circolazione pedonale",
   "parentLayerId": 69,
   "defaultVisibility": true,
   "subLayerIds": null,
   "minScale": 10010,
   "maxScale": 0
  },
  {
   "id": 76,
   "name": "Area stradale",
   "parentLayerId": 69,
   "defaultVisibility": true,
   "subLayerIds": null,
   "minScale": 10010,
   "maxScale": 0
  },
  {
   "id": 77,
   "name": "Area di circolazione ciclabile",
   "parentLayerId": 69,
   "defaultVisibility": true,
   "subLayerIds": null,
   "minScale": 10010,
   "maxScale": 0
  },
  {
   "id": 78,
   "name": "Area di circolazione veicolare",
   "parentLayerId": 69,
   "defaultVisibility": true,
   "subLayerIds": null,
   "minScale": 10010,
   "maxScale": 0
  },
  {
   "id": 79,
   "name": "Aree a servizio stradale",
   "parentLayerId": 69,
   "defaultVisibility": true,
   "subLayerIds": null,
   "minScale": 30010,
   "maxScale": 0
  },
  {
   "id": 80,
   "name": "Galleria",
   "parentLayerId": 69,
   "defaultVisibility": true,
   "subLayerIds": null,
   "minScale": 10010,
   "maxScale": 0
  },
  {
   "id": 81,
   "name": "Viabilità mista secondaria",
   "parentLayerId": 69,
   "defaultVisibility": true,
   "subLayerIds": null,
   "minScale": 10010,
   "maxScale": 0
  },
  {
   "id": 82,
   "name": "Sede di trasporto su ferro",
   "parentLayerId": 14,
   "defaultVisibility": true,
   "subLayerIds": null,
   "minScale": 10010,
   "maxScale": 0
  },
  {
   "id": 83,
   "name": "Verde urbano",
   "parentLayerId": 14,
   "defaultVisibility": true,
   "subLayerIds": [
    84,
    85,
    86
   ],
   "minScale": 0,
   "maxScale": 0
  },
  {
   "id": 84,
   "name": "Limiti area verde",
   "parentLayerId": 83,
   "defaultVisibility": true,
   "subLayerIds": null,
   "minScale": 10010,
   "maxScale": 0
  },
  {
   "id": 85,
   "name": "Filare di alberi",
   "parentLayerId": 83,
   "defaultVisibility": true,
   "subLayerIds": null,
   "minScale": 10010,
   "maxScale": 0
  },
  {
   "id": 86,
   "name": "Area verde",
   "parentLayerId": 83,
   "defaultVisibility": true,
   "subLayerIds": null,
   "minScale": 30010,
   "maxScale": 0
  },
  {
   "id": 87,
   "name": "Area attrezzata al suolo",
   "parentLayerId": 14,
   "defaultVisibility": true,
   "subLayerIds": null,
   "minScale": 10010,
   "maxScale": 0
  },
  {
   "id": 88,
   "name": "Superfici idrografiche",
   "parentLayerId": 14,
   "defaultVisibility": true,
   "subLayerIds": [
    89,
    90,
    91,
    92,
    93,
    94
   ],
   "minScale": 0,
   "maxScale": 0
  },
  {
   "id": 89,
   "name": "Limiti Aree bagnate di corso d'acqua",
   "parentLayerId": 88,
   "defaultVisibility": true,
   "subLayerIds": null,
   "minScale": 10010,
   "maxScale": 0
  },
  {
   "id": 90,
   "name": "Limiti Specchio d'acqua",
   "parentLayerId": 88,
   "defaultVisibility": true,
   "subLayerIds": null,
   "minScale": 10010,
   "maxScale": 0
  },
  {
   "id": 91,
   "name": "Area bagnata di corso d'acqua",
   "parentLayerId": 88,
   "defaultVisibility": true,
   "subLayerIds": null,
   "minScale": 30010,
   "maxScale": 0
  },
  {
   "id": 92,
   "name": "Specchio d'acqua",
   "parentLayerId": 88,
   "defaultVisibility": true,
   "subLayerIds": null,
   "minScale": 10010,
   "maxScale": 0
  },
  {
   "id": 93,
   "name": "Invaso artificiale",
   "parentLayerId": 88,
   "defaultVisibility": true,
   "subLayerIds": null,
   "minScale": 10010,
   "maxScale": 0
  },
  {
   "id": 94,
   "name": "Alveo specchio d'acqua",
   "parentLayerId": 88,
   "defaultVisibility": true,
   "subLayerIds": null,
   "minScale": 10010,
   "maxScale": 0
  },
  {
   "id": 95,
   "name": "Forma del terreno",
   "parentLayerId": 14,
   "defaultVisibility": true,
   "subLayerIds": [
    96,
    97,
    98,
    99,
    100,
    101,
    102
   ],
   "minScale": 0,
   "maxScale": 0
  },
  {
   "id": 96,
   "name": "Limiti Alveo naturale",
   "parentLayerId": 95,
   "defaultVisibility": true,
   "subLayerIds": null,
   "minScale": 10010,
   "maxScale": 0
  },
  {
   "id": 97,
   "name": "Limiti Alveo artificiale",
   "parentLayerId": 95,
   "defaultVisibility": true,
   "subLayerIds": null,
   "minScale": 10010,
   "maxScale": 0
  },
  {
   "id": 98,
   "name": "Scarpata",
   "parentLayerId": 95,
   "defaultVisibility": true,
   "subLayerIds": null,
   "minScale": 10010,
   "maxScale": 0
  },
  {
   "id": 99,
   "name": "Area in trasformazione o non strutturata",
   "parentLayerId": 95,
   "defaultVisibility": true,
   "subLayerIds": null,
   "minScale": 10010,
   "maxScale": 0
  },
  {
   "id": 100,
   "name": "Alveo naturale",
   "parentLayerId": 95,
   "defaultVisibility": true,
   "subLayerIds": null,
   "minScale": 10010,
   "maxScale": 0
  },
  {
   "id": 101,
   "name": "Alveo artificiale",
   "parentLayerId": 95,
   "defaultVisibility": true,
   "subLayerIds": null,
   "minScale": 10010,
   "maxScale": 0
  },
  {
   "id": 102,
   "name": "Area di scavo o discarica",
   "parentLayerId": 95,
   "defaultVisibility": true,
   "subLayerIds": null,
   "minScale": 30010,
   "maxScale": 0
  },
  {
   "id": 103,
   "name": "Opere infrastrutturali, Trasporto",
   "parentLayerId": 14,
   "defaultVisibility": true,
   "subLayerIds": [
    104,
    105
   ],
   "minScale": 0,
   "maxScale": 0
  },
  {
   "id": 104,
   "name": "Limiti Ponte/viadotto/cavalcavia",
   "parentLayerId": 103,
   "defaultVisibility": true,
   "subLayerIds": null,
   "minScale": 10010,
   "maxScale": 0
  },
  {
   "id": 105,
   "name": "Ponte/viadotto/cavalcavia",
   "parentLayerId": 103,
   "defaultVisibility": true,
   "subLayerIds": null,
   "minScale": 10010,
   "maxScale": 0
  },
  {
   "id": 106,
   "name": "Opere idrauliche di difesa e regimazione",
   "parentLayerId": 14,
   "defaultVisibility": true,
   "subLayerIds": [
    107,
    108
   ],
   "minScale": 0,
   "maxScale": 0
  },
  {
   "id": 107,
   "name": "Limiti Argini",
   "parentLayerId": 106,
   "defaultVisibility": true,
   "subLayerIds": null,
   "minScale": 15010,
   "maxScale": 0
  },
  {
   "id": 108,
   "name": "Argine",
   "parentLayerId": 106,
   "defaultVisibility": true,
   "subLayerIds": null,
   "minScale": 15010,
   "maxScale": 0
  },
  {
   "id": 109,
   "name": "Opere portuali e difesa delle coste",
   "parentLayerId": 14,
   "defaultVisibility": true,
   "subLayerIds": [
    110
   ],
   "minScale": 0,
   "maxScale": 0
  },
  {
   "id": 110,
   "name": "Opere idrauliche di regolazione",
   "parentLayerId": 109,
   "defaultVisibility": true,
   "subLayerIds": null,
   "minScale": 2270,
   "maxScale": 0
  },
  {
   "id": 111,
   "name": "_#Sfondo bianco",
   "parentLayerId": -1,
   "defaultVisibility": true,
   "subLayerIds": null,
   "minScale": 25000,
   "maxScale": 0
  }
 ],
 "tables": [],
 "spatialReference": {
  "wkid": 102100,
  "latestWkid": 3857
 },
 "singleFusedMapCache": true,
 "tileInfo": {
  "rows": 256,
  "cols": 256,
  "dpi": 96,
  "format": "PNG",
  "compressionQuality": 0,
  "origin": {
   "x": -2.0037508342787E7,
   "y": 2.0037508342787E7
  },
  "spatialReference": {
   "wkid": 102100,
   "latestWkid": 3857
  },
  "lods": [
   {
    "level": 0,
    "resolution": 156543.033928,
    "scale": 5.91657527591555E8
   },
   {
    "level": 1,
    "resolution": 78271.5169639999,
    "scale": 2.95828763795777E8
   },
   {
    "level": 2,
    "resolution": 39135.7584820001,
    "scale": 1.47914381897889E8
   },
   {
    "level": 3,
    "resolution": 19567.8792409999,
    "scale": 7.3957190948944E7
   },
   {
    "level": 4,
    "resolution": 9783.93962049996,
    "scale": 3.6978595474472E7
   },
   {
    "level": 5,
    "resolution": 4891.96981024998,
    "scale": 1.8489297737236E7
   },
   {
    "level": 6,
    "resolution": 2445.98490512499,
    "scale": 9244648.868618
   },
   {
    "level": 7,
    "resolution": 1222.99245256249,
    "scale": 4622324.434309
   },
   {
    "level": 8,
    "resolution": 611.49622628138,
    "scale": 2311162.217155
   },
   {
    "level": 9,
    "resolution": 305.748113140558,
    "scale": 1155581.108577
   },
   {
    "level": 10,
    "resolution": 152.874056570411,
    "scale": 577790.554289
   },
   {
    "level": 11,
    "resolution": 76.4370282850732,
    "scale": 288895.277144
   },
   {
    "level": 12,
    "resolution": 38.2185141425366,
    "scale": 144447.638572
   },
   {
    "level": 13,
    "resolution": 19.1092570712683,
    "scale": 72223.819286
   },
   {
    "level": 14,
    "resolution": 9.55462853563415,
    "scale": 36111.909643
   },
   {
    "level": 15,
    "resolution": 4.77731426794937,
    "scale": 18055.954822
   },
   {
    "level": 16,
    "resolution": 2.38865713397468,
    "scale": 9027.977411
   },
   {
    "level": 17,
    "resolution": 1.19432856685505,
    "scale": 4513.988705
   },
   {
    "level": 18,
    "resolution": 0.597164283559817,
    "scale": 2256.994353
   },
   {
    "level": 19,
    "resolution": 0.298582141647617,
    "scale": 1128.497176
   }
  ]
 },
 "initialExtent": {
  "xmin": 1104249.1865788088,
  "ymin": 5707481.908849613,
  "xmax": 1118428.8381184046,
  "ymax": 5715033.850192743,
  "spatialReference": {
   "cs": "pcs",
   "wkid": 102100
  }
 },
 "fullExtent": {
  "xmin": 1107423.1909114285,
  "ymin": 5702599.292989281,
  "xmax": 1121602.8424510246,
  "ymax": 5713848.158919063,
  "spatialReference": {
   "cs": "pcs",
   "wkid": 102100
  }
 },
 "minScale": 2.95828763795777E8,
 "maxScale": 1128.497176,
 "units": "esriMeters",
 "supportedImageFormatTypes": "PNG32,PNG24,PNG,JPG,DIB,TIFF,EMF,PS,PDF,GIF,SVG,SVGZ,BMP",
 "documentInfo": {
  "Title": "DBT",
  "Author": "Globo srl",
  "Comments": "Database topografico",
  "Subject": "Database topografico",
  "Category": "",
  "AntialiasingMode": "None",
  "TextAntialiasingMode": "Force",
  "Keywords": "Database topografico"
 },
 "capabilities": "Map,Query,Data",
 "supportedQueryFormats": "JSON, AMF, geoJSON",
 "exportTilesAllowed": false,
 "supportsDatumTransformation": true,
 "maxRecordCount": 1000,
 "maxImageHeight": 4096,
 "maxImageWidth": 4096,
 "supportedExtensions": ""
}
