{
 "currentVersion": 10.51,
 "serviceDescription": "",
 "mapName": "Pdr - Vincoli amministrativi",
 "description": "",
 "copyrightText": "",
 "supportsDynamicLayers": true,
 "layers": [
  {
   "id": 0,
   "name": "_#Limite amministrativo",
   "parentLayerId": -1,
   "defaultVisibility": true,
   "subLayerIds": null,
   "minScale": 2500000,
   "maxScale": 30011
  },
  {
   "id": 1,
   "name": "_Confine comunale",
   "parentLayerId": -1,
   "defaultVisibility": true,
   "subLayerIds": null,
   "minScale": 30010,
   "maxScale": 0
  },
  {
   "id": 2,
   "name": "Antenne telecomunicazioni",
   "parentLayerId": -1,
   "defaultVisibility": true,
   "subLayerIds": null,
   "minScale": 10000,
   "maxScale": 0
  },
  {
   "id": 3,
   "name": "Fontanili",
   "parentLayerId": -1,
   "defaultVisibility": true,
   "subLayerIds": null,
   "minScale": 10000,
   "maxScale": 0
  },
  {
   "id": 4,
   "name": "Pozzi",
   "parentLayerId": -1,
   "defaultVisibility": true,
   "subLayerIds": null,
   "minScale": 15000,
   "maxScale": 0
  },
  {
   "id": 5,
   "name": "Superficie di avvicinamento al decollo",
   "parentLayerId": -1,
   "defaultVisibility": true,
   "subLayerIds": null,
   "minScale": 15000,
   "maxScale": 0
  },
  {
   "id": 6,
   "name": "Rete elettrica",
   "parentLayerId": -1,
   "defaultVisibility": true,
   "subLayerIds": null,
   "minScale": 20000,
   "maxScale": 0
  },
  {
   "id": 7,
   "name": "Perimetrazione del centro abitato",
   "parentLayerId": -1,
   "defaultVisibility": true,
   "subLayerIds": null,
   "minScale": 0,
   "maxScale": 105000
  },
  {
   "id": 8,
   "name": "Perimetrazione del centro edificato",
   "parentLayerId": -1,
   "defaultVisibility": true,
   "subLayerIds": null,
   "minScale": 105000,
   "maxScale": 0
  },
  {
   "id": 9,
   "name": "Zona di rispetto cimiteriale",
   "parentLayerId": -1,
   "defaultVisibility": true,
   "subLayerIds": null,
   "minScale": 25000,
   "maxScale": 0
  },
  {
   "id": 10,
   "name": "Ambito di rispetto dei depuratori (100,00 m)",
   "parentLayerId": -1,
   "defaultVisibility": true,
   "subLayerIds": null,
   "minScale": 25000,
   "maxScale": 0
  },
  {
   "id": 11,
   "name": "Area PIDI di Carpenedolo (SNAM)",
   "parentLayerId": -1,
   "defaultVisibility": true,
   "subLayerIds": null,
   "minScale": 25000,
   "maxScale": 0
  },
  {
   "id": 12,
   "name": "Vestizione - Fascia di rispetto allevamenti agricoli (R=500,00 m; R=200,00 m)",
   "parentLayerId": -1,
   "defaultVisibility": true,
   "subLayerIds": null,
   "minScale": 20000,
   "maxScale": 0
  },
  {
   "id": 13,
   "name": "#Fascia di rispetto allevamenti agricoli (R=500,00 m; R=200,00 m)",
   "parentLayerId": -1,
   "defaultVisibility": true,
   "subLayerIds": null,
   "minScale": 35010,
   "maxScale": 0
  },
  {
   "id": 14,
   "name": "Fascia di rispetto stradale 20,00 m",
   "parentLayerId": -1,
   "defaultVisibility": true,
   "subLayerIds": null,
   "minScale": 20000,
   "maxScale": 0
  },
  {
   "id": 15,
   "name": "Fascia di rispetto stradale 30,00 m",
   "parentLayerId": -1,
   "defaultVisibility": true,
   "subLayerIds": null,
   "minScale": 20000,
   "maxScale": 0
  },
  {
   "id": 16,
   "name": "Vincoli derivanti dalla pianificazione di bacino (PAI)",
   "parentLayerId": -1,
   "defaultVisibility": true,
   "subLayerIds": null,
   "minScale": 35000,
   "maxScale": 0
  },
  {
   "id": 17,
   "name": "Fascia di rispetto rete elettrica (40,00 m)",
   "parentLayerId": -1,
   "defaultVisibility": true,
   "subLayerIds": null,
   "minScale": 35000,
   "maxScale": 0
  },
  {
   "id": 18,
   "name": "Fasce di rispetto/sicurezza metanodotto",
   "parentLayerId": -1,
   "defaultVisibility": true,
   "subLayerIds": null,
   "minScale": 35000,
   "maxScale": 0
  },
  {
   "id": 19,
   "name": "Area di salvaguardia delle captazioni ",
   "parentLayerId": -1,
   "defaultVisibility": true,
   "subLayerIds": null,
   "minScale": 40000,
   "maxScale": 0
  },
  {
   "id": 20,
   "name": "Fattibilità geologica",
   "parentLayerId": -1,
   "defaultVisibility": true,
   "subLayerIds": null,
   "minScale": 50000,
   "maxScale": 0
  },
  {
   "id": 21,
   "name": "Vincoli di polizia idraulica",
   "parentLayerId": -1,
   "defaultVisibility": true,
   "subLayerIds": [
    22,
    23,
    24
   ],
   "minScale": 20000,
   "maxScale": 0
  },
  {
   "id": 22,
   "name": "Fasce di rispetto del fiume Chiese - 10,00 m",
   "parentLayerId": 21,
   "defaultVisibility": true,
   "subLayerIds": null,
   "minScale": 0,
   "maxScale": 0
  },
  {
   "id": 23,
   "name": "Fascia di rispetto corsi d'acqua appartenenti al reticolo idrico principale e minore",
   "parentLayerId": 21,
   "defaultVisibility": true,
   "subLayerIds": null,
   "minScale": 0,
   "maxScale": 0
  },
  {
   "id": 24,
   "name": "Fascia di rispetto corsi d'acqua appartenenti al reticolo idrico minore",
   "parentLayerId": 21,
   "defaultVisibility": true,
   "subLayerIds": null,
   "minScale": 0,
   "maxScale": 0
  },
  {
   "id": 25,
   "name": "Fascia dei fontanili",
   "parentLayerId": -1,
   "defaultVisibility": true,
   "subLayerIds": null,
   "minScale": 65000,
   "maxScale": 0
  },
  {
   "id": 26,
   "name": "Area sorvolo",
   "parentLayerId": -1,
   "defaultVisibility": true,
   "subLayerIds": null,
   "minScale": 55000,
   "maxScale": 0
  }
 ],
 "tables": [],
 "spatialReference": {
  "wkid": 102100,
  "latestWkid": 3857
 },
 "singleFusedMapCache": true,
 "tileInfo": {
  "rows": 256,
  "cols": 256,
  "dpi": 96,
  "format": "PNG",
  "compressionQuality": 0,
  "origin": {
   "x": -2.0037508342787E7,
   "y": 2.0037508342787E7
  },
  "spatialReference": {
   "wkid": 102100,
   "latestWkid": 3857
  },
  "lods": [
   {
    "level": 0,
    "resolution": 156543.033928,
    "scale": 5.91657527591555E8
   },
   {
    "level": 1,
    "resolution": 78271.5169639999,
    "scale": 2.95828763795777E8
   },
   {
    "level": 2,
    "resolution": 39135.7584820001,
    "scale": 1.47914381897889E8
   },
   {
    "level": 3,
    "resolution": 19567.8792409999,
    "scale": 7.3957190948944E7
   },
   {
    "level": 4,
    "resolution": 9783.93962049996,
    "scale": 3.6978595474472E7
   },
   {
    "level": 5,
    "resolution": 4891.96981024998,
    "scale": 1.8489297737236E7
   },
   {
    "level": 6,
    "resolution": 2445.98490512499,
    "scale": 9244648.868618
   },
   {
    "level": 7,
    "resolution": 1222.99245256249,
    "scale": 4622324.434309
   },
   {
    "level": 8,
    "resolution": 611.49622628138,
    "scale": 2311162.217155
   },
   {
    "level": 9,
    "resolution": 305.748113140558,
    "scale": 1155581.108577
   },
   {
    "level": 10,
    "resolution": 152.874056570411,
    "scale": 577790.554289
   },
   {
    "level": 11,
    "resolution": 76.4370282850732,
    "scale": 288895.277144
   },
   {
    "level": 12,
    "resolution": 38.2185141425366,
    "scale": 144447.638572
   },
   {
    "level": 13,
    "resolution": 19.1092570712683,
    "scale": 72223.819286
   },
   {
    "level": 14,
    "resolution": 9.55462853563415,
    "scale": 36111.909643
   },
   {
    "level": 15,
    "resolution": 4.77731426794937,
    "scale": 18055.954822
   },
   {
    "level": 16,
    "resolution": 2.38865713397468,
    "scale": 9027.977411
   },
   {
    "level": 17,
    "resolution": 1.19432856685505,
    "scale": 4513.988705
   },
   {
    "level": 18,
    "resolution": 0.597164283559817,
    "scale": 2256.994353
   },
   {
    "level": 19,
    "resolution": 0.298582141647617,
    "scale": 1128.497176
   }
  ]
 },
 "initialExtent": {
  "xmin": 1152493.8625774493,
  "ymin": 5671072.322918809,
  "xmax": 1179862.4173145585,
  "ymax": 5682290.678688853,
  "spatialReference": {
   "cs": "pcs",
   "wkid": 102100
  }
 },
 "fullExtent": {
  "xmin": 1150929.2080994297,
  "ymin": 5670392.290640576,
  "xmax": 1174670.6825784924,
  "ymax": 5684242.143081543,
  "spatialReference": {
   "cs": "pcs",
   "wkid": 102100
  }
 },
 "minScale": 9244648.868618,
 "maxScale": 1128.497176,
 "units": "esriMeters",
 "supportedImageFormatTypes": "PNG32,PNG24,PNG,JPG,DIB,TIFF,EMF,PS,PDF,GIF,SVG,SVGZ,BMP",
 "documentInfo": {
  "Title": "PDR_VINCOLI_AMMINISTRATIVI",
  "Author": "",
  "Comments": "Vincoli amministrativi - Comune di Carpenedolo",
  "Subject": "Vincoli amministrativi - Comune di Carpenedolo",
  "Category": "",
  "AntialiasingMode": "None",
  "TextAntialiasingMode": "Force",
  "Keywords": "Vincoli amministrativi; Carpenedolo"
 },
 "capabilities": "Map,Query,Data",
 "supportedQueryFormats": "JSON, AMF, geoJSON",
 "exportTilesAllowed": false,
 "datumTransformations": [
  {
   "geoTransforms": [
    {
     "wkid": 108001,
     "latestWkid": 1241,
     "transformForward": true,
     "name": "NAD_1927_To_NAD_1983_NADCON"
    }
   ]
  },
  {
   "geoTransforms": [
    {
     "wkid": 108001,
     "latestWkid": 1241,
     "transformForward": false,
     "name": "NAD_1927_To_NAD_1983_NADCON"
    }
   ]
  }
 ],
 "supportsDatumTransformation": true,
 "maxRecordCount": 1000,
 "maxImageHeight": 4096,
 "maxImageWidth": 4096,
 "supportedExtensions": "WMSServer"
}
