{ "currentVersion": 10.51, "serviceDescription": "
Le mappe di vincolo dell\u2019Aeroporto Internazionale di Bergamo \u2013 Orio al Serio \u201cIl Caravaggio\u201d, prescritte dall\u2019art. n. 707 del Codice della Navigazione, costituiscono lo strumento operativo essenziale per valutare la realizzazione di nuove edificazioni che possano essere in contrasto con le servitù aeronautiche definite dalle superfici di contenimento degli ostacoli alla navigazione aerea descritte dal cap. 4 del Regolamento ENAC per la Costruzione e l\u2019Esercizio degli Aeroporti e dall\u2019Annesso XIV ICAO.<\/SPAN><\/P> Tali mappe, inoltre, definiscono le aree limitrofe agli aeroporti da sottoporre a vincolo per quanto riguarda ulteriori potenziali pericoli per la navigazione aerea, al fine di garantire la sicurezza della navigazione aerea.<\/SPAN><\/P><\/DIV><\/DIV><\/DIV>",
"mapName": "ENAC - Aeroporto di Bergamo Orio al Serio - Mappe di vincolo",
"description": "",
"copyrightText": "",
"supportsDynamicLayers": true,
"layers": [
{
"id": 0,
"name": "_Confine comunale",
"parentLayerId": -1,
"defaultVisibility": true,
"subLayerIds": null,
"minScale": 10000010,
"maxScale": 0
},
{
"id": 1,
"name": "_Curve di isolivello altimetriche",
"parentLayerId": -1,
"defaultVisibility": true,
"subLayerIds": null,
"minScale": 50010,
"maxScale": 0
},
{
"id": 2,
"name": "Inviluppo superficie di vincolo",
"parentLayerId": -1,
"defaultVisibility": true,
"subLayerIds": null,
"minScale": 50010,
"maxScale": 0
},
{
"id": 3,
"name": "Orografia forante",
"parentLayerId": -1,
"defaultVisibility": true,
"subLayerIds": null,
"minScale": 100010,
"maxScale": 0
},
{
"id": 4,
"name": "Pericoli per la navigazione aerea (PC001 A)",
"parentLayerId": -1,
"defaultVisibility": true,
"subLayerIds": null,
"minScale": 100010,
"maxScale": 0
},
{
"id": 5,
"name": "Pericoli per la navigazione aerea (PC001 B)",
"parentLayerId": -1,
"defaultVisibility": true,
"subLayerIds": null,
"minScale": 100010,
"maxScale": 0
},
{
"id": 6,
"name": "Pericoli per la navigazione aerea (PC001 C)",
"parentLayerId": -1,
"defaultVisibility": true,
"subLayerIds": null,
"minScale": 100010,
"maxScale": 0
}
],
"tables": [],
"spatialReference": {
"wkid": 102100,
"latestWkid": 3857
},
"singleFusedMapCache": true,
"tileInfo": {
"rows": 256,
"cols": 256,
"dpi": 96,
"format": "PNG",
"compressionQuality": 0,
"origin": {
"x": -2.0037508342787E7,
"y": 2.0037508342787E7
},
"spatialReference": {
"wkid": 102100,
"latestWkid": 3857
},
"lods": [
{
"level": 0,
"resolution": 156543.033928,
"scale": 5.91657527591555E8
},
{
"level": 1,
"resolution": 78271.5169639999,
"scale": 2.95828763795777E8
},
{
"level": 2,
"resolution": 39135.7584820001,
"scale": 1.47914381897889E8
},
{
"level": 3,
"resolution": 19567.8792409999,
"scale": 7.3957190948944E7
},
{
"level": 4,
"resolution": 9783.93962049996,
"scale": 3.6978595474472E7
},
{
"level": 5,
"resolution": 4891.96981024998,
"scale": 1.8489297737236E7
},
{
"level": 6,
"resolution": 2445.98490512499,
"scale": 9244648.868618
},
{
"level": 7,
"resolution": 1222.99245256249,
"scale": 4622324.434309
},
{
"level": 8,
"resolution": 611.49622628138,
"scale": 2311162.217155
},
{
"level": 9,
"resolution": 305.748113140558,
"scale": 1155581.108577
},
{
"level": 10,
"resolution": 152.874056570411,
"scale": 577790.554289
},
{
"level": 11,
"resolution": 76.4370282850732,
"scale": 288895.277144
},
{
"level": 12,
"resolution": 38.2185141425366,
"scale": 144447.638572
},
{
"level": 13,
"resolution": 19.1092570712683,
"scale": 72223.819286
},
{
"level": 14,
"resolution": 9.55462853563415,
"scale": 36111.909643
},
{
"level": 15,
"resolution": 4.77731426794937,
"scale": 18055.954822
},
{
"level": 16,
"resolution": 2.38865713397468,
"scale": 9027.977411
},
{
"level": 17,
"resolution": 1.19432856685505,
"scale": 4513.988705
},
{
"level": 18,
"resolution": 0.597164283559817,
"scale": 2256.994353
},
{
"level": 19,
"resolution": 0.298582141647617,
"scale": 1128.497176
},
{
"level": 20,
"resolution": 0.14929107082380833,
"scale": 564.248588
},
{
"level": 21,
"resolution": 0.07464553541190416,
"scale": 282.124294
},
{
"level": 22,
"resolution": 0.03732276770595208,
"scale": 141.062147
},
{
"level": 23,
"resolution": 0.01866138385297604,
"scale": 70.5310735
}
]
},
"initialExtent": {
"xmin": 1083554.257867763,
"ymin": 5726959.807583864,
"xmax": 1089648.496428875,
"ymax": 5729934.029273977,
"spatialReference": {
"cs": "pcs",
"wkid": 102100
}
},
"fullExtent": {
"xmin": 1083582.4444147584,
"ymin": 5725482.416417534,
"xmax": 1089620.3098818797,
"ymax": 5729934.029273977,
"spatialReference": {
"cs": "pcs",
"wkid": 102100
}
},
"minScale": 5.91657527591555E8,
"maxScale": 1128.497176,
"units": "esriMeters",
"supportedImageFormatTypes": "PNG32,PNG24,PNG,JPG,DIB,TIFF,EMF,PS,PDF,GIF,SVG,SVGZ,BMP",
"documentInfo": {
"Title": "Mappe di vincolo ENAC",
"Author": "Globo",
"Comments": "ENAC - Aeroporto di Bergamo Orio al Serio - Mappe di vincolo - Limitazioni relative agli ostacoli ed ai pericoli per la navigazione aerea (Art. 707 commi 1,2,3,4 Codice della Navigazione)",
"Subject": "ENAC - Aeroporto di Bergamo Orio al Serio - Mappe di vincolo",
"Category": "",
"AntialiasingMode": "None",
"TextAntialiasingMode": "Force",
"Keywords": "Edilizia,Geoportale,Urbanistica e pianificazione,Vincolistica"
},
"capabilities": "Map,Query,Data",
"supportedQueryFormats": "JSON, AMF, geoJSON",
"exportTilesAllowed": false,
"datumTransformations": [
{
"geoTransforms": [
{
"wkid": 1660,
"latestWkid": 1660,
"transformForward": true,
"name": "Monte_Mario_To_WGS_1984_4"
}
]
},
{
"geoTransforms": [
{
"wkid": 1660,
"latestWkid": 1660,
"transformForward": false,
"name": "Monte_Mario_To_WGS_1984_4"
}
]
}
],
"supportsDatumTransformation": true,
"maxRecordCount": 1000,
"maxImageHeight": 4096,
"maxImageWidth": 4096,
"supportedExtensions": ""
}