View In:
ArcGIS JavaScript
ArcGIS Online map viewer
Google Earth
ArcMap
ArcGIS Explorer
View Footprint In:
ArcGIS Online map viewer
Service Description: Il Piano dei Servizi è un documento sostanziale per l’evoluzione del sistema di dimensionamento dei piani urbanistici in quanto definisce le strutture pubbliche o di interesse pubblico necessarie, presenti, o previste, per il corretto funzionamento del territorio. Questo piano deve tenere conto della popolazione residente nel territorio, di quella limitrofa e di quella prevista in futuro.
Map Name: Piano dei Servizi
Legend
All Layers and Tables
Dynamic Legend
Dynamic All Layers
Layers:
Description: Piano dei Servizi
Copyright Text: Globo srl
Spatial Reference:
102100
(3857)
Single Fused Map Cache: true
Tile Info:
- Height: 256
- Width: 256
- DPI: 96
-
Levels of Detail: 20
-
Level ID: 1
[ Start Tile, End Tile ]
- Resolution: 78271.5169639999
- Scale: 2.95828763795777E8
-
Level ID: 2
[ Start Tile, End Tile ]
- Resolution: 39135.7584820001
- Scale: 1.47914381897889E8
-
Level ID: 3
[ Start Tile, End Tile ]
- Resolution: 19567.8792409999
- Scale: 7.3957190948944E7
-
Level ID: 4
[ Start Tile, End Tile ]
- Resolution: 9783.93962049996
- Scale: 3.6978595474472E7
-
Level ID: 5
[ Start Tile, End Tile ]
- Resolution: 4891.96981024998
- Scale: 1.8489297737236E7
- Format: PNG
- Compression Quality: 0.0
- Origin:
X: -2.0037508342787E7
Y: 2.0037508342787E7
- Spatial Reference:
102100
(3857)
Initial Extent:
XMin: 1002417.0858621832
YMin: 5714868.495139877
XMax: 1011458.5353343124
YMax: 5718684.986374344
Spatial Reference:
102100
Full Extent:
XMin: 1003977.7786365172
YMin: 5712566.484554009
XMax: 1009897.8425599784
YMax: 5718684.986374344
Spatial Reference:
102100
Units: esriMeters
Supported Image Format Types: PNG32,PNG24,PNG,JPG,DIB,TIFF,EMF,PS,PDF,GIF,SVG,SVGZ,BMP
Document Info:
Title: Piano dei Servizi
Author: Globo srl
Comments: Piano dei Servizi
Subject: Piano dei Servizi
Category:
Keywords: Servizi; Piano dei servizi; Pianificazione; Urbanistica.
AntialiasingMode: None
TextAntialiasingMode: Force
Supports Dynamic Layers: true
MaxRecordCount: 1000
MaxImageHeight: 4096
MaxImageWidth: 4096
Supported Query Formats: JSON, AMF, geoJSON
Min Scale: 4622324.434309
Max Scale: 1128.497176
Supports Datum Transformation: true
Child Resources:
Info
Dynamic Layer
Supported Operations:
Export Map
Identify
QueryDomains
Find
Return Updates